BEGIN:VCALENDAR
VERSION:2.0
PRODID:-//Lucy V. Barnsley Elementary School PTA - ECPv6.8.2.1//NONSGML v1.0//EN
CALSCALE:GREGORIAN
METHOD:PUBLISH
X-WR-CALNAME:Lucy V. Barnsley Elementary School PTA
X-ORIGINAL-URL:https://barnsleypta.org
X-WR-CALDESC:Events for Lucy V. Barnsley Elementary School PTA
REFRESH-INTERVAL;VALUE=DURATION:PT1H
X-Robots-Tag:noindex
X-PUBLISHED-TTL:PT1H
BEGIN:VTIMEZONE
TZID:UTC
BEGIN:STANDARD
TZOFFSETFROM:+0000
TZOFFSETTO:+0000
TZNAME:UTC
DTSTART:20250101T000000
END:STANDARD
END:VTIMEZONE
BEGIN:VEVENT
DTSTART;TZID=UTC:20250228T000000
DTEND;TZID=UTC:20250228T235959
DTSTAMP:20260419T175628
CREATED:20250108T222512Z
LAST-MODIFIED:20250223T003907Z
UID:332-1740700800-1740787199@barnsleypta.org
SUMMARY:Early Release Day
DESCRIPTION:
URL:https://barnsleypta.org/event/early-release-day/
LOCATION:MD
CATEGORIES:MCPS Calendar
END:VEVENT
BEGIN:VEVENT
DTSTART;TZID=UTC:20250228T130000
DTEND;TZID=UTC:20250228T200000
DTSTAMP:20260419T175628
CREATED:20250108T222607Z
LAST-MODIFIED:20250223T004032Z
UID:334-1740747600-1740772800@barnsleypta.org
SUMMARY:HyperKidz Fundraiser
DESCRIPTION:Join us for a PTA Fundraiser at HyperKidz! We are very excited about this new fundraiser location! It will be a great chance to get out of the cold and into a fun afternoon of play to support our community. Mention BARNSLEY for $2 off admission and a portion of the proceeds will benefit our school. We can’t wait to see you there!
URL:https://barnsleypta.org/event/hyperkidz-fundraiser/
LOCATION:HyperKidz\, 7301 Calhoun Pl #400\, Rockville\, MD\, 20855\, United States
CATEGORIES:PTA Calendar events
END:VEVENT
END:VCALENDAR