BEGIN:VCALENDAR
VERSION:2.0
PRODID:-//Lucy V. Barnsley Elementary School PTA - ECPv6.8.2.1//NONSGML v1.0//EN
CALSCALE:GREGORIAN
METHOD:PUBLISH
X-ORIGINAL-URL:https://barnsleypta.org
X-WR-CALDESC:Events for Lucy V. Barnsley Elementary School PTA
REFRESH-INTERVAL;VALUE=DURATION:PT1H
X-Robots-Tag:noindex
X-PUBLISHED-TTL:PT1H
BEGIN:VTIMEZONE
TZID:UTC
BEGIN:STANDARD
TZOFFSETFROM:+0000
TZOFFSETTO:+0000
TZNAME:UTC
DTSTART:20250101T000000
END:STANDARD
END:VTIMEZONE
BEGIN:VEVENT
DTSTART;TZID=UTC:20250301T000000
DTEND;TZID=UTC:20250331T235959
DTSTAMP:20260419T193039
CREATED:20250303T000536Z
LAST-MODIFIED:20250303T000536Z
UID:451-1740787200-1743465599@barnsleypta.org
SUMMARY:Regal Cinemas Fundraiser
DESCRIPTION:We are excited to host a Regal Cinemas Movie Ticket Fundraiser throughout the month of March to support our 5th Grade Graduation! Treat yourself\, friends\, or family to a movie night out and 25% of all proceeds will go directly toward the 5th Grade Promotion Fund\, helping us make this a memorable celebration for our students! Each bundle is $30 for two tickets and vouchers can be used anytime after purchase. Get your bundle here: https://tinyurl.com/LVBESRegalbundle
URL:https://barnsleypta.org/event/regal-cinemas-fundraiser/
LOCATION:MD
END:VEVENT
END:VCALENDAR