BEGIN:VCALENDAR
VERSION:2.0
PRODID:-//Lucy V. Barnsley Elementary School PTA - ECPv6.8.2.1//NONSGML v1.0//EN
CALSCALE:GREGORIAN
METHOD:PUBLISH
X-ORIGINAL-URL:https://barnsleypta.org
X-WR-CALDESC:Events for Lucy V. Barnsley Elementary School PTA
REFRESH-INTERVAL;VALUE=DURATION:PT1H
X-Robots-Tag:noindex
X-PUBLISHED-TTL:PT1H
BEGIN:VTIMEZONE
TZID:UTC
BEGIN:STANDARD
TZOFFSETFROM:+0000
TZOFFSETTO:+0000
TZNAME:UTC
DTSTART:20250101T000000
END:STANDARD
END:VTIMEZONE
BEGIN:VEVENT
DTSTART;TZID=UTC:20250809T093000
DTEND;TZID=UTC:20250809T103000
DTSTAMP:20260420T035344
CREATED:20250728T002255Z
LAST-MODIFIED:20250728T002255Z
UID:573-1754731800-1754735400@barnsleypta.org
SUMMARY:Kindergarten Playdate
DESCRIPTION:Join us for one of our upcoming playdates for rising kindergarten families! This is the perfect chance to meet your future classmates before the school year starts. \nMark your calendar for two chances to meet up\, both at the Barnsley playground: \n Sat Aug 9\, 9:30-10:30 am \n Tues Aug 19\, 3:45-4:30 pm \nPlease spread the word to your friends – we can’t wait to welcome you to Barnsley!
URL:https://barnsleypta.org/event/kindergarten-playdate/
LOCATION:MD
END:VEVENT
END:VCALENDAR