BEGIN:VCALENDAR
VERSION:2.0
PRODID:-//Lucy V. Barnsley Elementary School PTA - ECPv6.8.2.1//NONSGML v1.0//EN
CALSCALE:GREGORIAN
METHOD:PUBLISH
X-WR-CALNAME:Lucy V. Barnsley Elementary School PTA
X-ORIGINAL-URL:https://barnsleypta.org
X-WR-CALDESC:Events for Lucy V. Barnsley Elementary School PTA
REFRESH-INTERVAL;VALUE=DURATION:PT1H
X-Robots-Tag:noindex
X-PUBLISHED-TTL:PT1H
BEGIN:VTIMEZONE
TZID:UTC
BEGIN:STANDARD
TZOFFSETFROM:+0000
TZOFFSETTO:+0000
TZNAME:UTC
DTSTART:20250101T000000
END:STANDARD
END:VTIMEZONE
BEGIN:VEVENT
DTSTART;TZID=UTC:20250819T154500
DTEND;TZID=UTC:20250819T163000
DTSTAMP:20260420T035251
CREATED:20250727T234020Z
LAST-MODIFIED:20250728T002027Z
UID:562-1755618300-1755621000@barnsleypta.org
SUMMARY:Kindergarten Playdate
DESCRIPTION:Join us for one of our upcoming playdates for rising kindergarten families! This is the perfect chance to meet your future classmates before the school year starts. \nMark your calendar for two chances to meet up\, both at the Barnsley playground: \n Sat Aug 9\, 9:30-10:30 am \n Tues Aug 19\, 3:45-4:30 pm \nPlease spread the word to your friends – we can’t wait to welcome you to Barnsley!
URL:https://barnsleypta.org/event/kindergarten-playdate-2/
LOCATION:Lucy V. Barnsley Playground\, 14516 Nadine Dr\, Rockville\, MD\, 20853\, United States
END:VEVENT
END:VCALENDAR