BEGIN:VCALENDAR
VERSION:2.0
PRODID:-//Lucy V. Barnsley Elementary School PTA - ECPv6.8.2.1//NONSGML v1.0//EN
CALSCALE:GREGORIAN
METHOD:PUBLISH
X-ORIGINAL-URL:https://barnsleypta.org
X-WR-CALDESC:Events for Lucy V. Barnsley Elementary School PTA
REFRESH-INTERVAL;VALUE=DURATION:PT1H
X-Robots-Tag:noindex
X-PUBLISHED-TTL:PT1H
BEGIN:VTIMEZONE
TZID:UTC
BEGIN:STANDARD
TZOFFSETFROM:+0000
TZOFFSETTO:+0000
TZNAME:UTC
DTSTART:20250101T000000
END:STANDARD
END:VTIMEZONE
BEGIN:VEVENT
DTSTART;TZID=UTC:20250823T100000
DTEND;TZID=UTC:20250823T130000
DTSTAMP:20260420T035345
CREATED:20250728T001634Z
LAST-MODIFIED:20250728T001634Z
UID:569-1755943200-1755954000@barnsleypta.org
SUMMARY:MCPS Back-to-School Fair
DESCRIPTION:MCPS is hosting its annual Back-to-School Fair on Saturday\, Aug. 23! Join us to learn about the school system\, along with county programs and services. Enjoy children’s activities\, music\, entertainment and giveaways. There will also be an immunization clinic. Click here for more information and updates.   \n \n 
URL:https://barnsleypta.org/event/mcps-back-to-school-fair/
LOCATION:Westfield Wheaton Mall\, 11160 Veirs Mill Road\, Silver Spring\, MD\, United States
END:VEVENT
END:VCALENDAR