BEGIN:VCALENDAR
VERSION:2.0
PRODID:-//Lucy V. Barnsley Elementary School PTA - ECPv6.8.2.1//NONSGML v1.0//EN
CALSCALE:GREGORIAN
METHOD:PUBLISH
X-WR-CALNAME:Lucy V. Barnsley Elementary School PTA
X-ORIGINAL-URL:https://barnsleypta.org
X-WR-CALDESC:Events for Lucy V. Barnsley Elementary School PTA
REFRESH-INTERVAL;VALUE=DURATION:PT1H
X-Robots-Tag:noindex
X-PUBLISHED-TTL:PT1H
BEGIN:VTIMEZONE
TZID:America/New_York
BEGIN:DAYLIGHT
TZOFFSETFROM:-0500
TZOFFSETTO:-0400
TZNAME:EDT
DTSTART:20250309T070000
END:DAYLIGHT
BEGIN:STANDARD
TZOFFSETFROM:-0400
TZOFFSETTO:-0500
TZNAME:EST
DTSTART:20251102T060000
END:STANDARD
END:VTIMEZONE
BEGIN:VEVENT
DTSTART;TZID=America/New_York:20251219T150000
DTEND;TZID=America/New_York:20251219T210000
DTSTAMP:20260420T100324
CREATED:20251103T020319Z
LAST-MODIFIED:20251124T212837Z
UID:717-1766156400-1766178000@barnsleypta.org
SUMMARY:Chuck E. Cheese PTA Fundraiser
DESCRIPTION:On Friday\, December 19th\, between 3-9 pm\, 20% of proceeds at Chuck E. Cheese (5238 Nicholson Lane) will directly benefit our school! Download the flyer including coupons here. Mark your calendar and don’t forget to mention Barnsley! \n \n 
URL:https://barnsleypta.org/event/chuck-e-cheese-pta-fundraiser/
LOCATION:MD
CATEGORIES:PTA Calendar events
END:VEVENT
END:VCALENDAR