BEGIN:VCALENDAR
VERSION:2.0
PRODID:-//Lucy V. Barnsley Elementary School PTA - ECPv6.8.2.1//NONSGML v1.0//EN
CALSCALE:GREGORIAN
METHOD:PUBLISH
X-ORIGINAL-URL:https://barnsleypta.org
X-WR-CALDESC:Events for Lucy V. Barnsley Elementary School PTA
REFRESH-INTERVAL;VALUE=DURATION:PT1H
X-Robots-Tag:noindex
X-PUBLISHED-TTL:PT1H
BEGIN:VTIMEZONE
TZID:UTC
BEGIN:STANDARD
TZOFFSETFROM:+0000
TZOFFSETTO:+0000
TZNAME:UTC
DTSTART:20250101T000000
END:STANDARD
TZID:America/New_York
BEGIN:DAYLIGHT
TZOFFSETFROM:-0500
TZOFFSETTO:-0400
TZNAME:EDT
DTSTART:20250309T070000
END:DAYLIGHT
BEGIN:STANDARD
TZOFFSETFROM:-0400
TZOFFSETTO:-0500
TZNAME:EST
DTSTART:20251102T060000
END:STANDARD
END:VTIMEZONE
BEGIN:VEVENT
DTSTART;TZID=UTC:20251101T150000
DTEND;TZID=UTC:20251101T170000
DTSTAMP:20260420T070425
CREATED:20251002T031502Z
LAST-MODIFIED:20251002T031653Z
UID:686-1762009200-1762016400@barnsleypta.org
SUMMARY:PTA Fall Festival
DESCRIPTION:
URL:https://barnsleypta.org/event/pta-fall-festival/
LOCATION:Lucy V. Barnsley Playground\, 14516 Nadine Dr\, Rockville\, MD\, 20853\, United States
CATEGORIES:PTA Calendar events
END:VEVENT
BEGIN:VEVENT
DTSTART;TZID=UTC:20251103T000000
DTEND;TZID=UTC:20251103T235959
DTSTAMP:20260420T070425
CREATED:20250728T003947Z
LAST-MODIFIED:20250728T003947Z
UID:593-1762128000-1762214399@barnsleypta.org
SUMMARY:No school for students (Grading and Planning for the end of term)
DESCRIPTION:
URL:https://barnsleypta.org/event/no-school-for-students-grading-and-planning-for-the-end-of-term/
LOCATION:MD
CATEGORIES:MCPS Calendar
END:VEVENT
BEGIN:VEVENT
DTSTART;TZID=UTC:20251104T190000
DTEND;TZID=UTC:20251104T200000
DTSTAMP:20260420T070425
CREATED:20250826T051218Z
LAST-MODIFIED:20251103T015600Z
UID:625-1762282800-1762286400@barnsleypta.org
SUMMARY:PTA Meeting
DESCRIPTION:Check ParentSquare on the day of the meeting for Zoom info.
URL:https://barnsleypta.org/event/pta-meeting-3/
LOCATION:MD
CATEGORIES:PTA Meetings
END:VEVENT
BEGIN:VEVENT
DTSTART;TZID=UTC:20251110T170000
DTEND;TZID=UTC:20251110T210000
DTSTAMP:20260420T070425
CREATED:20251103T015321Z
LAST-MODIFIED:20251103T015321Z
UID:704-1762794000-1762808400@barnsleypta.org
SUMMARY:Big Greek Cafe PTA Restaurant Night
DESCRIPTION:Join us for Barnsley Restaurant Night at Big Greek Cafe! On Monday\, November 10th\, between 5-9 pm\, when you mention BARNSLEY a portion of proceeds from all dine in and take out orders will be donated to our PTA. Thank you for supporting Barnsley!
URL:https://barnsleypta.org/event/big-greek-cafe-pta-restaurant-night/
LOCATION:Big Greek Cafe Rockville\, 4007 Norbeck Road\, Rockville\, MD\, 20853
CATEGORIES:PTA Calendar events
END:VEVENT
BEGIN:VEVENT
DTSTART;TZID=UTC:20251121T183000
DTEND;TZID=UTC:20251121T203000
DTSTAMP:20260420T070425
CREATED:20250929T010904Z
LAST-MODIFIED:20251103T014843Z
UID:671-1763749800-1763757000@barnsleypta.org
SUMMARY:PTA Bingo Night
DESCRIPTION:Join us for Barnsley Bingo Night on Friday\, November 21st\, 6:30-8:30 pm in the Barnsley Cafeteria! Bingo Night is free to attend and play\, so join us for a night of games\, prizes and fun! \nWe need many volunteers to make Bingo Night a success! Adults are needed to help verify bingo cards and SSL volunteers are needed to help with concessions and prizes. Sign up to volunteer here!
URL:https://barnsleypta.org/event/pta-bingo-night/
LOCATION:Lucy V. Barnsley Cafeteria\, 14516 Nadine Dr\, Rockvillle\, MD\, 20853\, United States
CATEGORIES:PTA Calendar events
END:VEVENT
BEGIN:VEVENT
DTSTART;TZID=America/New_York:20251124T000000
DTEND;TZID=America/New_York:20251125T235959
DTSTAMP:20260420T070425
CREATED:20250728T004128Z
LAST-MODIFIED:20251124T212349Z
UID:595-1763942400-1764115199@barnsleypta.org
SUMMARY:Early Release Days for Students
DESCRIPTION:
URL:https://barnsleypta.org/event/early-release-days-for-students/
LOCATION:MD
CATEGORIES:MCPS Calendar
END:VEVENT
BEGIN:VEVENT
DTSTART;TZID=America/New_York:20251126T000000
DTEND;TZID=America/New_York:20251126T235959
DTSTAMP:20260420T070425
CREATED:20250728T004236Z
LAST-MODIFIED:20251124T212429Z
UID:597-1764115200-1764201599@barnsleypta.org
SUMMARY:Systemwide Closure—Schools and offices closed
DESCRIPTION:
URL:https://barnsleypta.org/event/systemwide-closure-schools-and-offices-closed/
LOCATION:MD
CATEGORIES:MCPS Calendar
END:VEVENT
BEGIN:VEVENT
DTSTART;TZID=America/New_York:20251127T000000
DTEND;TZID=America/New_York:20251128T235959
DTSTAMP:20260420T070425
CREATED:20250728T004316Z
LAST-MODIFIED:20251124T212452Z
UID:599-1764201600-1764374399@barnsleypta.org
SUMMARY:Thanksgiving—Schools and offices closed
DESCRIPTION:
URL:https://barnsleypta.org/event/thanksgiving-schools-and-offices-closed/
LOCATION:MD
CATEGORIES:MCPS Calendar
END:VEVENT
END:VCALENDAR