BEGIN:VCALENDAR
VERSION:2.0
PRODID:-//Lucy V. Barnsley Elementary School PTA - ECPv6.8.2.1//NONSGML v1.0//EN
CALSCALE:GREGORIAN
METHOD:PUBLISH
X-WR-CALNAME:Lucy V. Barnsley Elementary School PTA
X-ORIGINAL-URL:https://barnsleypta.org
X-WR-CALDESC:Events for Lucy V. Barnsley Elementary School PTA
REFRESH-INTERVAL;VALUE=DURATION:PT1H
X-Robots-Tag:noindex
X-PUBLISHED-TTL:PT1H
BEGIN:VTIMEZONE
TZID:America/New_York
BEGIN:DAYLIGHT
TZOFFSETFROM:-0500
TZOFFSETTO:-0400
TZNAME:EDT
DTSTART:20250309T070000
END:DAYLIGHT
BEGIN:STANDARD
TZOFFSETFROM:-0400
TZOFFSETTO:-0500
TZNAME:EST
DTSTART:20251102T060000
END:STANDARD
BEGIN:DAYLIGHT
TZOFFSETFROM:-0500
TZOFFSETTO:-0400
TZNAME:EDT
DTSTART:20260308T070000
END:DAYLIGHT
BEGIN:STANDARD
TZOFFSETFROM:-0400
TZOFFSETTO:-0500
TZNAME:EST
DTSTART:20261101T060000
END:STANDARD
END:VTIMEZONE
BEGIN:VEVENT
DTSTART;TZID=America/New_York:20251224T000000
DTEND;TZID=America/New_York:20260102T235959
DTSTAMP:20260420T101234
CREATED:20250728T004657Z
LAST-MODIFIED:20251124T212908Z
UID:601-1766534400-1767398399@barnsleypta.org
SUMMARY:Winter Break
DESCRIPTION:
URL:https://barnsleypta.org/event/winter-break/
LOCATION:MD
CATEGORIES:MCPS Calendar
END:VEVENT
BEGIN:VEVENT
DTSTART;TZID=America/New_York:20260106T190000
DTEND;TZID=America/New_York:20260106T200000
DTSTAMP:20260420T101234
CREATED:20250826T051511Z
LAST-MODIFIED:20251124T212929Z
UID:629-1767726000-1767729600@barnsleypta.org
SUMMARY:PTA Meeting
DESCRIPTION:Check ParentSquare on the day of the meeting for Zoom info.
URL:https://barnsleypta.org/event/pta-meeting-5/
LOCATION:MD
CATEGORIES:PTA Meetings
END:VEVENT
BEGIN:VEVENT
DTSTART;TZID=America/New_York:20260113T160000
DTEND;TZID=America/New_York:20260113T200000
DTSTAMP:20260420T101234
CREATED:20250108T210943Z
LAST-MODIFIED:20260113T001947Z
UID:292-1768320000-1768334400@barnsleypta.org
SUMMARY:Chipotle Restaurant Night PTA Fundraiser
DESCRIPTION:Join us January 13th from 4:00-8:00pm for a PTA Fundraiser at Chipotle in Rock Creek Village Center! 25% of sales will support Barnsley PTA. Don’t forget to mention BARNSLEY at the register or use the online code F9EWML3 for pickup.  \n 
URL:https://barnsleypta.org/event/chipotle-restaurant-night-pta-fundraiser/
LOCATION:Chipotle – Rock Creek Village Center\, 5504 Norbeck Rd\, Rockville\, MD\, 20853\, United States
CATEGORIES:PTA Calendar events
END:VEVENT
BEGIN:VEVENT
DTSTART;TZID=America/New_York:20260119T000000
DTEND;TZID=America/New_York:20260119T235959
DTSTAMP:20260420T101234
CREATED:20251201T003833Z
LAST-MODIFIED:20251201T003833Z
UID:747-1768780800-1768867199@barnsleypta.org
SUMMARY:No School - Dr. Martin Luther King Jr. Day
DESCRIPTION:
URL:https://barnsleypta.org/event/no-school-dr-martin-luther-king-jr-day/
LOCATION:MD
CATEGORIES:MCPS Calendar
END:VEVENT
BEGIN:VEVENT
DTSTART;TZID=America/New_York:20260126T000000
DTEND;TZID=America/New_York:20260126T235959
DTSTAMP:20260420T101234
CREATED:20251201T004048Z
LAST-MODIFIED:20251201T004744Z
UID:749-1769385600-1769471999@barnsleypta.org
SUMMARY:No School for Students - Grading/Planning Day
DESCRIPTION:
URL:https://barnsleypta.org/event/no-school-grading-planning-day/
LOCATION:MD
CATEGORIES:MCPS Calendar
END:VEVENT
END:VCALENDAR