BEGIN:VCALENDAR
VERSION:2.0
PRODID:-//Lucy V. Barnsley Elementary School PTA - ECPv6.8.2.1//NONSGML v1.0//EN
CALSCALE:GREGORIAN
METHOD:PUBLISH
X-ORIGINAL-URL:https://barnsleypta.org
X-WR-CALDESC:Events for Lucy V. Barnsley Elementary School PTA
REFRESH-INTERVAL;VALUE=DURATION:PT1H
X-Robots-Tag:noindex
X-PUBLISHED-TTL:PT1H
BEGIN:VTIMEZONE
TZID:America/New_York
BEGIN:DAYLIGHT
TZOFFSETFROM:-0500
TZOFFSETTO:-0400
TZNAME:EDT
DTSTART:20260308T070000
END:DAYLIGHT
BEGIN:STANDARD
TZOFFSETFROM:-0400
TZOFFSETTO:-0500
TZNAME:EST
DTSTART:20261101T060000
END:STANDARD
END:VTIMEZONE
BEGIN:VEVENT
DTSTART;TZID=America/New_York:20260203T190000
DTEND;TZID=America/New_York:20260203T200000
DTSTAMP:20260420T115058
CREATED:20250826T051728Z
LAST-MODIFIED:20260109T145116Z
UID:631-1770145200-1770148800@barnsleypta.org
SUMMARY:PTA Meeting
DESCRIPTION:esSee the Bear Bulletin for Zoom info.
URL:https://barnsleypta.org/event/pta-meeting-6/
LOCATION:MD
CATEGORIES:PTA Meetings
END:VEVENT
BEGIN:VEVENT
DTSTART;TZID=America/New_York:20260216T000000
DTEND;TZID=America/New_York:20260216T235959
DTSTAMP:20260420T115058
CREATED:20251201T004117Z
LAST-MODIFIED:20251201T004117Z
UID:751-1771200000-1771286399@barnsleypta.org
SUMMARY:No School - Presidents' Day
DESCRIPTION:
URL:https://barnsleypta.org/event/no-school-presidents-day/
LOCATION:MD
CATEGORIES:MCPS Calendar
END:VEVENT
BEGIN:VEVENT
DTSTART;TZID=America/New_York:20260217T000000
DTEND;TZID=America/New_York:20260217T235959
DTSTAMP:20260420T115058
CREATED:20251201T004145Z
LAST-MODIFIED:20251201T004145Z
UID:753-1771286400-1771372799@barnsleypta.org
SUMMARY:No School - Non-Instructional Day
DESCRIPTION:
URL:https://barnsleypta.org/event/no-school-non-instructional-day/
LOCATION:MD
CATEGORIES:MCPS Calendar
END:VEVENT
BEGIN:VEVENT
DTSTART;TZID=America/New_York:20260220T183000
DTEND;TZID=America/New_York:20260220T203000
DTSTAMP:20260420T115058
CREATED:20260131T153719Z
LAST-MODIFIED:20260131T153719Z
UID:784-1771612200-1771619400@barnsleypta.org
SUMMARY:Barnsley Science Fair
DESCRIPTION:Join us for the Barnsley Science Fair! All Barnsley students are welcome to attend the Science Fair to view the science projects and enjoy science activities.\n\nBarnsley students in 2nd-5th grades are encouraged to participate in the Science Fair. Science projects can be completed as an individual or in a group of 2-3 students. Science Fair participants will be entered into a raffle for fun prizes! If your child would like to participate\, please review the guidelines and sign up here. Need project ideas? Here are a few resources.
URL:https://barnsleypta.org/event/barnsley-science-fair/
LOCATION:Lucy V. Barnsley Cafeteria\, 14516 Nadine Dr\, Rockvillle\, MD\, 20853\, United States
CATEGORIES:PTA Calendar events
END:VEVENT
BEGIN:VEVENT
DTSTART;TZID=America/New_York:20260227T000000
DTEND;TZID=America/New_York:20260227T235959
DTSTAMP:20260420T115058
CREATED:20251201T004218Z
LAST-MODIFIED:20251201T004218Z
UID:755-1772150400-1772236799@barnsleypta.org
SUMMARY:Early Release Day
DESCRIPTION:
URL:https://barnsleypta.org/event/early-release-day-3/
LOCATION:MD
CATEGORIES:MCPS Calendar
END:VEVENT
BEGIN:VEVENT
DTSTART;TZID=America/New_York:20260228T183000
DTEND;TZID=America/New_York:20260228T200000
DTSTAMP:20260420T115058
CREATED:20250108T211347Z
LAST-MODIFIED:20260131T153919Z
UID:297-1772303400-1772308800@barnsleypta.org
SUMMARY:Cabin John Ice Skating Night PTA Fundraiser
DESCRIPTION:Join us for a fun night of ice skating with your fellow Barnsley Bears at the Cabin John Ice Skating Rink!  \nCost per skater: $15 (includes entry fee and skate rental) –  ***Spectators are FREE*** \nTickets must be reserved in advance by Monday\, February 23rd – sign up here. 
URL:https://barnsleypta.org/event/cabin-john-ice-skating-night-pta-fundraiser/
LOCATION:Cabin John Ice Rink\, 10610 Westlake Drive\, Rockville\, MD\, 20852\, United States
CATEGORIES:PTA Calendar events
END:VEVENT
END:VCALENDAR